BEGIN:VCALENDAR
VERSION:2.0
PRODID:-//focus-mensch.ch - ECPv6.15.17.1//NONSGML v1.0//EN
CALSCALE:GREGORIAN
METHOD:PUBLISH
X-ORIGINAL-URL:https://www.focus-mensch.ch
X-WR-CALDESC:Veranstaltungen für focus-mensch.ch
REFRESH-INTERVAL;VALUE=DURATION:PT1H
X-Robots-Tag:noindex
X-PUBLISHED-TTL:PT1H
BEGIN:VTIMEZONE
TZID:Europe/Zurich
BEGIN:DAYLIGHT
TZOFFSETFROM:+0100
TZOFFSETTO:+0200
TZNAME:CEST
DTSTART:20200329T010000
END:DAYLIGHT
BEGIN:STANDARD
TZOFFSETFROM:+0200
TZOFFSETTO:+0100
TZNAME:CET
DTSTART:20201025T010000
END:STANDARD
BEGIN:DAYLIGHT
TZOFFSETFROM:+0100
TZOFFSETTO:+0200
TZNAME:CEST
DTSTART:20210328T010000
END:DAYLIGHT
BEGIN:STANDARD
TZOFFSETFROM:+0200
TZOFFSETTO:+0100
TZNAME:CET
DTSTART:20211031T010000
END:STANDARD
BEGIN:DAYLIGHT
TZOFFSETFROM:+0100
TZOFFSETTO:+0200
TZNAME:CEST
DTSTART:20220327T010000
END:DAYLIGHT
BEGIN:STANDARD
TZOFFSETFROM:+0200
TZOFFSETTO:+0100
TZNAME:CET
DTSTART:20221030T010000
END:STANDARD
END:VTIMEZONE
BEGIN:VEVENT
DTSTART;TZID=Europe/Zurich:20210216T180000
DTEND;TZID=Europe/Zurich:20210216T210000
DTSTAMP:20260424T123459
CREATED:20200710T092946Z
LAST-MODIFIED:20201210T100000Z
UID:10000452-1613498400-1613509200@www.focus-mensch.ch
SUMMARY:Themenabend "Mensch\, ärgere mich nicht" - virtuelles Format
DESCRIPTION:Wie kann ich mit meinem Ärger umgehen? Wie mit dem Ärger anderer? \nDu willst für Dich Antworten auf diese und vielleicht weitere Fragen finden\, dann bist du hier genau richtig!  \nDenn: Ärger entsteht in verschiedensten Situationen und Lebensbereichen: beispielsweise auf der Arbeit\, in der Partnerschaft und in der Familie sowie im gesellschaftlichen Raum.  \nEntdecke neue Aspekte und nimm wirksame Ideen\, Anstösse und anwendbare Tools mit nach Hause und/oder zur Arbeit.  \nEs lohnt sich! \nBezahlung im Voraus: per IBAN CH75 0588 1138 4481 0100 1   (gerne stellen wir Dir eine Quittung aus)
URL:https://www.focus-mensch.ch/event/themenabend-mensch-aergere-mich-nicht-3-2-2/
LOCATION:Die Räumlichkeiten werden nach Gruppengrösse im Voraus mitgeteilt (in oder um Zofingen). Zoom-Links direkt per Mail\, Zofingen\, 4800\, Schweiz
CATEGORIES:Themenabende
ATTACH;FMTTYPE=image/jpeg:https://www.focus-mensch.ch/wp-content/uploads/2020/11/AdobeStock_152782013-scaled.jpeg
ORGANIZER;CN="Andy Balmer":MAILTO:andy.balmer@focus-mensch.ch
END:VEVENT
END:VCALENDAR